BEGIN:VCALENDAR
VERSION:2.0
PRODID:-//Ljusterö Golfklubb - ECPv6.15.20//NONSGML v1.0//EN
CALSCALE:GREGORIAN
METHOD:PUBLISH
X-ORIGINAL-URL:https://ljusterogolf.se
X-WR-CALDESC:Händelser för Ljusterö Golfklubb
REFRESH-INTERVAL;VALUE=DURATION:PT1H
X-Robots-Tag:noindex
X-PUBLISHED-TTL:PT1H
BEGIN:VTIMEZONE
TZID:UTC
BEGIN:STANDARD
TZOFFSETFROM:+0000
TZOFFSETTO:+0000
TZNAME:UTC
DTSTART:20230101T000000
END:STANDARD
END:VTIMEZONE
BEGIN:VTIMEZONE
TZID:Europe/Stockholm
BEGIN:DAYLIGHT
TZOFFSETFROM:+0100
TZOFFSETTO:+0200
TZNAME:CEST
DTSTART:20230326T010000
END:DAYLIGHT
BEGIN:STANDARD
TZOFFSETFROM:+0200
TZOFFSETTO:+0100
TZNAME:CET
DTSTART:20231029T010000
END:STANDARD
BEGIN:DAYLIGHT
TZOFFSETFROM:+0100
TZOFFSETTO:+0200
TZNAME:CEST
DTSTART:20240331T010000
END:DAYLIGHT
BEGIN:STANDARD
TZOFFSETFROM:+0200
TZOFFSETTO:+0100
TZNAME:CET
DTSTART:20241027T010000
END:STANDARD
BEGIN:DAYLIGHT
TZOFFSETFROM:+0100
TZOFFSETTO:+0200
TZNAME:CEST
DTSTART:20250330T010000
END:DAYLIGHT
BEGIN:STANDARD
TZOFFSETFROM:+0200
TZOFFSETTO:+0100
TZNAME:CET
DTSTART:20251026T010000
END:STANDARD
END:VTIMEZONE
BEGIN:VEVENT
DTSTART;TZID=UTC:20240901T090000
DTEND;TZID=UTC:20240901T090000
DTSTAMP:20260421T132646
CREATED:20240327T161830Z
LAST-MODIFIED:20240327T161844Z
UID:2427-1725181200-1725181200@ljusterogolf.se
SUMMARY:Irish Greensome - Helena & Co
DESCRIPTION:
URL:https://ljusterogolf.se/event/irish-greensome-helena-co/
LOCATION:Ljusterö Golfklubb\, Sweden
CATEGORIES:Sponsortävling,TK
END:VEVENT
BEGIN:VEVENT
DTSTART;TZID=UTC:20240903T090000
DTEND;TZID=UTC:20240903T090000
DTSTAMP:20260421T132646
CREATED:20240327T161831Z
LAST-MODIFIED:20240327T161844Z
UID:2428-1725354000-1725354000@ljusterogolf.se
SUMMARY:Damernas Tisdagsgolf 6+6+6
DESCRIPTION:
URL:https://ljusterogolf.se/event/damernas-tisdagsgolf-666/
LOCATION:Ljusterö Golfklubb\, Sweden
CATEGORIES:Dam
END:VEVENT
BEGIN:VEVENT
DTSTART;TZID=UTC:20240905T090000
DTEND;TZID=UTC:20240905T090000
DTSTAMP:20260421T132646
CREATED:20240327T161900Z
LAST-MODIFIED:20240327T161900Z
UID:2434-1725526800-1725526800@ljusterogolf.se
SUMMARY:Torsdagsgolf H60 - omg 14
DESCRIPTION:
URL:https://ljusterogolf.se/event/torsdagsgolf-h60-omg-14/
LOCATION:Ljusterö Golfklubb\, Sweden
CATEGORIES:Torsdagsgolf H60
END:VEVENT
BEGIN:VEVENT
DTSTART;TZID=UTC:20240908T090000
DTEND;TZID=UTC:20240908T090000
DTSTAMP:20260421T132646
CREATED:20240327T161901Z
LAST-MODIFIED:20240327T161901Z
UID:2435-1725786000-1725786000@ljusterogolf.se
SUMMARY:Höstflaggan - Ljusterö Golf AB
DESCRIPTION:
URL:https://ljusterogolf.se/event/hostflaggan-ljustero-golf-ab/
LOCATION:Ljusterö Golfklubb\, Sweden
CATEGORIES:Sponsortävling,TK
END:VEVENT
BEGIN:VEVENT
DTSTART;TZID=UTC:20240910T090000
DTEND;TZID=UTC:20240910T090000
DTSTAMP:20260421T132646
CREATED:20240327T161901Z
LAST-MODIFIED:20240327T161901Z
UID:2436-1725958800-1725958800@ljusterogolf.se
SUMMARY:Damernas tisdagsgolf - sällskapsgolf
DESCRIPTION:
URL:https://ljusterogolf.se/event/damernas-tisdagsgolf-sallskapsgolf-13/
LOCATION:Ljusterö Golfklubb\, Sweden
CATEGORIES:Dam
END:VEVENT
BEGIN:VEVENT
DTSTART;TZID=UTC:20240912T090000
DTEND;TZID=UTC:20240912T090000
DTSTAMP:20260421T132646
CREATED:20240327T161901Z
LAST-MODIFIED:20240327T161901Z
UID:2437-1726131600-1726131600@ljusterogolf.se
SUMMARY:Torsdagsgolf H60 - omg 15
DESCRIPTION:
URL:https://ljusterogolf.se/event/torsdagsgolf-h60-omg-15/
LOCATION:Ljusterö Golfklubb\, Sweden
CATEGORIES:Torsdagsgolf H60
END:VEVENT
BEGIN:VEVENT
DTSTART;TZID=UTC:20240917T090000
DTEND;TZID=UTC:20240917T090000
DTSTAMP:20260421T132646
CREATED:20240331T002925Z
LAST-MODIFIED:20240331T002925Z
UID:2484-1726563600-1726563600@ljusterogolf.se
SUMMARY:Damernas tisdagsgolf - sällskapsgolf
DESCRIPTION:
URL:https://ljusterogolf.se/event/damernas-tisdagsgolf-sallskapsgolf-14/
LOCATION:Ljusterö Golfklubb\, Sweden
CATEGORIES:Dam
END:VEVENT
BEGIN:VEVENT
DTSTART;TZID=UTC:20240919T090000
DTEND;TZID=UTC:20240919T090000
DTSTAMP:20260421T132646
CREATED:20240331T002925Z
LAST-MODIFIED:20240331T002925Z
UID:2485-1726736400-1726736400@ljusterogolf.se
SUMMARY:Torsdagsgolf H60 - omg 16
DESCRIPTION:
URL:https://ljusterogolf.se/event/torsdagsgolf-h60-omg-16/
LOCATION:Ljusterö Golfklubb\, Sweden
CATEGORIES:Torsdagsgolf H60
END:VEVENT
BEGIN:VEVENT
DTSTART;TZID=UTC:20240922T090000
DTEND;TZID=UTC:20240922T090000
DTSTAMP:20260421T132646
CREATED:20240331T002925Z
LAST-MODIFIED:20240331T002925Z
UID:2486-1726995600-1726995600@ljusterogolf.se
SUMMARY:Damavslutet
DESCRIPTION:
URL:https://ljusterogolf.se/event/damavslutet/
LOCATION:Ljusterö Golfklubb\, Sweden
CATEGORIES:Dam,TK
END:VEVENT
BEGIN:VEVENT
DTSTART;TZID=Europe/Stockholm:20240928T090000
DTEND;TZID=Europe/Stockholm:20240928T090000
DTSTAMP:20260421T132646
CREATED:20240331T002926Z
LAST-MODIFIED:20240421T102107Z
UID:2487-1727514000-1727514000@ljusterogolf.se
SUMMARY:Upploppet - Optimera Ljusterö - Backstart
DESCRIPTION:
URL:https://ljusterogolf.se/event/upploppet-optimera-ljustero-backstart/
LOCATION:Ljusterö Golfklubb\, Sweden
CATEGORIES:Sponsortävling,TK
END:VEVENT
END:VCALENDAR